View In:
ArcGIS JavaScript
ArcGIS Online Map Viewer
ArcGIS Earth
ArcMap
View Footprint In:
ArcGIS Online Map Viewer
Service Description: Aerials2009WM
Name: Aerials2009WM
Description:
Single Fused Map Cache: false
Extent:
XMin: -9071669.34033268
YMin: 5062319.696360955
XMax: -9059275.368652733
YMax: 5076706.177569648
Spatial Reference: 102100
(3857)
Initial Extent:
XMin: -9071669.34033268
YMin: 5062319.696360955
XMax: -9059275.368652733
YMax: 5076706.177569648
Spatial Reference: 102100
(3857)
Full Extent:
XMin: -9071669.34033268
YMin: 5062319.696360955
XMax: -9059275.368652733
YMax: 5076706.177569648
Spatial Reference: 102100
(3857)
Pixel Size X: 0.3052251312600701
Pixel Size Y: 0.3052251285418856
Band Count: 3
Pixel Type: U8
RasterFunction Infos: {"rasterFunctionInfos": [{
"name": "None",
"description": "",
"help": ""
}]}
Mensuration Capabilities: Basic
Has Histograms: true
Has Colormap: false
Has Multi Dimensions : false
Rendering Rule:
Min Scale: 0
Max Scale: 0
Copyright Text:
Service Data Type: esriImageServiceDataTypeRGB
Min Values: 19, 19, 17
Max Values: 241, 241, 242
Mean Values: 103.7771119933955, 99.01009683616361, 90.40254856581741
Standard Deviation Values: 39.742102322095526, 40.14800123880569, 41.81226016199386
Object ID Field:
Fields:
None
Default Mosaic Method: Center
Allowed Mosaic Methods:
SortField:
SortValue: null
Mosaic Operator: First
Default Compression Quality: 75
Default Resampling Method: Bilinear
Max Record Count: null
Max Image Height: 4100
Max Image Width: 15000
Max Download Image Count: null
Max Mosaic Image Count: null
Allow Raster Function: true
Allow Copy: null
Allow Analysis: null
Allow Compute TiePoints: false
Supports Statistics: false
Supports Advanced Queries: false
Use StandardizedQueries: true
Raster Type Infos:
Name: Raster Dataset
Description: Supports all ArcGIS Raster Datasets
Help:
Has Raster Attribute Table: false
Edit Fields Info: null
Ownership Based AccessControl For Rasters: null
Child Resources:
Info
Histograms
Key Properties
Legend
Raster Function Infos
Supported Operations:
Export Image
Identify
Measure
Compute Histograms
Compute Statistics Histograms
Get Samples
Compute Class Statistics
Query Boundary
Compute Pixel Location
Compute Angles
Validate
Project