View In:
ArcGIS JavaScript
ArcGIS Online Map Viewer
ArcGIS Earth
ArcMap
View Footprint In:
ArcGIS Online Map Viewer
Service Description: Aerials2005WM
Name: Aerials2005WM
Description:
Single Fused Map Cache: false
Extent:
XMin: -9071509.8687623
YMin: 5063791.417395283
XMax: -9059625.692993948
YMax: 5075279.047570542
Spatial Reference: 102100
(3857)
Initial Extent:
XMin: -9071509.8687623
YMin: 5063791.417395283
XMax: -9059625.692993948
YMax: 5075279.047570542
Spatial Reference: 102100
(3857)
Full Extent:
XMin: -9071509.8687623
YMin: 5063791.417395283
XMax: -9059625.692993948
YMax: 5075279.047570542
Spatial Reference: 102100
(3857)
Pixel Size X: 0.30480060960121014
Pixel Size Y: 0.30480060960120714
Band Count: 3
Pixel Type: U8
RasterFunction Infos: {"rasterFunctionInfos": [{
"name": "None",
"description": "",
"help": ""
}]}
Mensuration Capabilities: Basic
Has Histograms: true
Has Colormap: false
Has Multi Dimensions : false
Rendering Rule:
Min Scale: 0
Max Scale: 0
Copyright Text:
Service Data Type: esriImageServiceDataTypeRGB
Min Values: 0, 0, 0
Max Values: 255, 255, 255
Mean Values: 90.73414044093606, 104.13466923662705, 87.91777029618615
Standard Deviation Values: 63.22783762918392, 54.57197406408814, 41.80211012348835
Object ID Field:
Fields:
None
Default Mosaic Method: Center
Allowed Mosaic Methods:
SortField:
SortValue: null
Mosaic Operator: First
Default Compression Quality: 75
Default Resampling Method: Bilinear
Max Record Count: null
Max Image Height: 4100
Max Image Width: 15000
Max Download Image Count: null
Max Mosaic Image Count: null
Allow Raster Function: true
Allow Copy: null
Allow Analysis: null
Allow Compute TiePoints: false
Supports Statistics: false
Supports Advanced Queries: false
Use StandardizedQueries: true
Raster Type Infos:
Name: Raster Dataset
Description: Supports all ArcGIS Raster Datasets
Help:
Has Raster Attribute Table: false
Edit Fields Info: null
Ownership Based AccessControl For Rasters: null
Child Resources:
Info
Histograms
Key Properties
Legend
Raster Function Infos
Supported Operations:
Export Image
Identify
Measure
Compute Histograms
Compute Statistics Histograms
Get Samples
Compute Class Statistics
Query Boundary
Compute Pixel Location
Compute Angles
Validate
Project