View In:
ArcGIS JavaScript
ArcGIS Online Map Viewer
ArcGIS Earth
ArcMap
View Footprint In:
ArcGIS Online Map Viewer
Service Description: Aerials1949WM
Name: Aerials1949WM
Description:
Single Fused Map Cache: false
Extent:
XMin: -9071784.97252352
YMin: 5063636.549043033
XMax: -9059364.140508614
YMax: 5075601.765249616
Spatial Reference: 102100
(3857)
Initial Extent:
XMin: -9071784.97252352
YMin: 5063636.549043033
XMax: -9059364.140508614
YMax: 5075601.765249616
Spatial Reference: 102100
(3857)
Full Extent:
XMin: -9071784.97252352
YMin: 5063636.549043033
XMax: -9059364.140508614
YMax: 5075601.765249616
Spatial Reference: 102100
(3857)
Pixel Size X: 1.2674318382556418
Pixel Size Y: 1.250675886545653
Band Count: 3
Pixel Type: U8
RasterFunction Infos: {"rasterFunctionInfos": [{
"name": "None",
"description": "",
"help": ""
}]}
Mensuration Capabilities: Basic
Has Histograms: true
Has Colormap: false
Has Multi Dimensions : false
Rendering Rule:
Min Scale: 0
Max Scale: 0
Copyright Text:
Service Data Type: esriImageServiceDataTypeRGB
Min Values: 0, 0, 0
Max Values: 249, 249, 249
Mean Values: 155.9731049766212, 155.9731049766212, 155.9731049766212
Standard Deviation Values: 42.72931795625737, 42.72931795625737, 42.72931795625737
Object ID Field:
Fields:
None
Default Mosaic Method: Center
Allowed Mosaic Methods:
SortField:
SortValue: null
Mosaic Operator: First
Default Compression Quality: 75
Default Resampling Method: Bilinear
Max Record Count: null
Max Image Height: 4100
Max Image Width: 15000
Max Download Image Count: null
Max Mosaic Image Count: null
Allow Raster Function: true
Allow Copy: null
Allow Analysis: null
Allow Compute TiePoints: false
Supports Statistics: false
Supports Advanced Queries: false
Use StandardizedQueries: true
Raster Type Infos:
Name: Raster Dataset
Description: Supports all ArcGIS Raster Datasets
Help:
Has Raster Attribute Table: false
Edit Fields Info: null
Ownership Based AccessControl For Rasters: null
Child Resources:
Info
Histograms
Key Properties
Legend
Raster Function Infos
Supported Operations:
Export Image
Identify
Measure
Compute Histograms
Compute Statistics Histograms
Get Samples
Compute Class Statistics
Query Boundary
Compute Pixel Location
Compute Angles
Validate
Project